BEGIN:VCALENDAR
VERSION:2.0
PRODID:-//Stadtgeschichte München//DE
CALSCALE:GREGORIAN
BEGIN:VEVENT
UID:8564@stadtgeschichte-muenchen.de
SUMMARY:Dagobert Duck im Westend - die SecuriCoin Münzzählung
DESCRIPTION:Die einzige private Münzzählerei Deutschlands hat Hochkonjunktur, denn mühselige Dienstleistungen werden gerne outgesourct. Behälter— weise wird das Kleingeld aus Parkautomaten, Zeitungskästen und öffentlichen Toiletten angeliefert, vorsortiert, gezähltundsortenrein gerollt. Selbstdie gute alte D-Mark wird noch angenommen und umgetauscht. Sauber getrennt von Nägeln, Hosenknöpfen und falschen Münzen kommt das Kleingeldanschließend wieder in den Umlauf.&nbsp;
DTSTART:20140604T120000
DTEND:20140604T130000
LOCATION:SecuriCoin - Landsberger Str. 148
ORGANIZER:MVHS München Mitte   
END:VEVENT
END:VCALENDAR