BEGIN:VCALENDAR
VERSION:2.0
PRODID:-//Stadtgeschichte München//DE
CALSCALE:GREGORIAN
BEGIN:VEVENT
UID:5001@stadtgeschichte-muenchen.de
SUMMARY:Die Maximiliansanlagen mit dem Friedensengel
DESCRIPTION:&nbsp; &nbsp;
DTSTART:20130713T140000
DTEND:20130713T000000
LOCATION:Eingang Kirche St. Nikolai - Innere Wiener Straße 1
ORGANIZER:Bayerische Schlösserverwaltung
END:VEVENT
END:VCALENDAR