BEGIN:VCALENDAR
VERSION:2.0
PRODID:-//Stadtgeschichte München//DE
CALSCALE:GREGORIAN
BEGIN:VEVENT
UID:4922@stadtgeschichte-muenchen.de
SUMMARY:Gut-gebrüllt-Löwe
DESCRIPTION:Wir sind gespannt, ob es euch nach unserer zweistündigen Spurensuche gelingen wird, den â€žLöwenâ€œ ausfindig zu machen, der hier in München so dolle gebrüllt hat;-). Obendrein sollt ihr Ausschau nach Teufeln und wildgewordenen Schimpansen halten und den wahren Geheimnissen der Münchner Sehenswürdigkeiten auf die Spur kommen. Habt ihr Lust? Dann begleitet uns am Mi. 21.08.2013 um 13.00h auf unserer Tour. Anmeldung und weitere Infos unter www.stadtdetektive.com
DTSTART:20130821T130000
DTEND:20130821T150000
LOCATION:Marienplatz / Mariensäule
ORGANIZER:Die Stadtdetektive  - Stadtführungen für Kinder und Erwachsene
END:VEVENT
END:VCALENDAR