BEGIN:VCALENDAR
VERSION:2.0
PRODID:-//Stadtgeschichte München//DE
CALSCALE:GREGORIAN
BEGIN:VEVENT
UID:4020@stadtgeschichte-muenchen.de
SUMMARY:Grauslige Geschichten- Tour
DESCRIPTION: Auch in München gehtâ€™s manchmal nicht mit rechten Dingen zu! Warum nur bläst der Wind so stark vor dem Frauendom? Was haben Hexen mit der St. Michaelskirche zu tun? Und warum stürzt sich jemand freiwillig über 20 Meter in die Tiefe? Antworten auf diese grausligen Fragen werden wir auf unserer Tour durch die Münchner Altstadt erhalten! Altersempfehlung: ab 8 Jahren.
DTSTART:20130302T110000
DTEND:20130302T000000
LOCATION:Karlstor
ORGANIZER:Die Stadtdetektive  - Stadtführungen für Kinder und Erwachsene
END:VEVENT
END:VCALENDAR