BEGIN:VCALENDAR
VERSION:2.0
PRODID:-//Stadtgeschichte München//DE
CALSCALE:GREGORIAN
BEGIN:VEVENT
UID:28379@stadtgeschichte-muenchen.de
SUMMARY:Ehemalige Falkenau:
DESCRIPTION:&lt;p&gt;Man sieht den Nockherberg und geht entlang der Nockherstraße bis zur Dollmannstraße und zurück zur Falkenstraße.&lt;/p&gt;
DTSTART:20261010T143000
DTEND:20261010T163000
LOCATION:Bäckerei Wimmer, Ohlmüllerstrape/Falkenstraße
ORGANIZER:Freunde der Vorstadt Au e.V.
END:VEVENT
END:VCALENDAR