BEGIN:VCALENDAR
VERSION:2.0
PRODID:-//Stadtgeschichte München//DE
CALSCALE:GREGORIAN
BEGIN:VEVENT
UID:28376@stadtgeschichte-muenchen.de
SUMMARY:Untergiesing entlang bis zur Krämermühle
DESCRIPTION:&lt;p&gt;Da großes Interesse daran bestand haben wir auch diese Führung in unser Portfolio aufgenommen, obwohl wir da die „Au“ nur streifen.&lt;/p&gt;
DTSTART:20260919T143000
DTEND:20260919T163000
LOCATION:Kolumbusplatz
ORGANIZER:
END:VEVENT
END:VCALENDAR