BEGIN:VCALENDAR
VERSION:2.0
PRODID:-//Stadtgeschichte München//DE
CALSCALE:GREGORIAN
BEGIN:VEVENT
UID:28372@stadtgeschichte-muenchen.de
SUMMARY:Führung Ohel-Jakob-Synagoge
DESCRIPTION:&lt;p&gt;Im Rahmen des &lt;strong&gt;„Europäischen Tag der Jüdischen Kultur“ &lt;/strong&gt;besteht die Möglichkeit die Ohel-Jakob-Synagoge zu besuchen und bei einem Vortrag mehr über dieses Gotteshaus und dem jüdischen Glauben zu erfahren. Angeboten und durchgeführt wird diese Führung durch das Kulturzentrum der Israelitischen Kultusgemeinde München und Oberbayern.&lt;/p&gt;&lt;p&gt;Der Europäische Tag der jüdischen Kultur wird seit 1999 an einem Sonntag Anfang September in rund 30 europäischen Ländern von jüdischen und nichtjüdischen Organisationen gemeinsam veranstaltet. Er dient dazu, das europäische Judentum, seine Geschichte, Traditionen und Bräuche in Vergangenheit und Gegenwart besser kennenzulernen.&lt;/p&gt;&lt;p&gt;Im Rahmen der Führungen erhalten die Besucher eine Einführung in die Geschichte der jüdischen Gemeinde in München, in die Architektur der Synagoge sowie in den Ablauf eines Gottesdienstes.&lt;/p&gt;&lt;p&gt;Die Bräuche und Traditionen des jüdischen Glaubens werden anhand des Synagogenaufbaus näher erklärt. Rituelle Objekte der jüdischen Religionspraxis werden vorgestellt und veranschaulichen somit die Erklärungen der Referenten.&lt;/p&gt;&lt;p&gt;Herren, sowie verheiratete Frauen sind gebeten, eine Kopfbedeckung während des Besuchs zu tragen.&lt;/p&gt;
DTSTART:20260906T150000
DTEND:20260906T163000
LOCATION:Ohel-Jakob-Synagoge St.-Jakobs-Platz 18
ORGANIZER:ErinnerungsWerkstatt München e.V.
END:VEVENT
END:VCALENDAR