BEGIN:VCALENDAR
VERSION:2.0
PRODID:-//Stadtgeschichte München//DE
CALSCALE:GREGORIAN
BEGIN:VEVENT
UID:28370@stadtgeschichte-muenchen.de
SUMMARY:Museumsgeschichte(n): Auf Spurensuche im Lenbachhaus
DESCRIPTION:&lt;p&gt;Welche jüdischen Künstler*innen sind in der Sammlung vertreten und welche ihrer Werke sind heute zu sehen? Welche Beziehungen bestanden nach der Museumsgründung 1925 zu jüdischen Kunsthändler*innen, welche Münchner Mäzene unterstützten das Haus? Das Team der Provenienzforschung des Lenbachhauses lädt zu einem Rundgang ein und gibt Einblick in hundert Jahre Museumsgeschichte – von der Entstehung der Sammlung über ihre kritische Aufarbeitung bis zu Forschung, Restitution und Erinnerungsarbeit.&lt;/p&gt;
DTSTART:20260503T160000
DTEND:20260503T170000
LOCATION:Städtische Galerie im Lenbachhaus und Kunstbau München Luisenstraße 33
ORGANIZER:DMAO Denk mal am Ort
END:VEVENT
END:VCALENDAR