BEGIN:VCALENDAR
VERSION:2.0
PRODID:-//Stadtgeschichte München//DE
CALSCALE:GREGORIAN
BEGIN:VEVENT
UID:28369@stadtgeschichte-muenchen.de
SUMMARY:Das Kunsthaus L. Bernheimer
DESCRIPTION:&lt;p&gt;Innerhalb weniger Jahrzehnte entwickelte sich das 1864 von Lehmann Bernheimer gegründete Stoffwarengeschäft zu einem der bedeutendsten Kunst- und Ausstattungshäuser Münchens. 1890 wurde das repräsentative Bernheimer-Palais am Lenbachplatz nach Entwürfen von Friedrich von Thiersch und Martin Dülfer vollendet. Die Führung der Kunsthistorikerin Melida Steinke würdigt das Lebenswerk der Unternehmerfamilie und erinnert an ihre Verfolgung und Entrechtung als jüdische Kunsthändler*&lt;/p&gt;
DTSTART:20260503T140000
DTEND:20260503T150000
LOCATION:Lenbachplatz 3
ORGANIZER:DMAO Denk mal am Ort
END:VEVENT
END:VCALENDAR