BEGIN:VCALENDAR
VERSION:2.0
PRODID:-//Stadtgeschichte München//DE
CALSCALE:GREGORIAN
BEGIN:VEVENT
UID:28363@stadtgeschichte-muenchen.de
SUMMARY:Mirjam David und Ernst Holzer – Verbündete von Hans Leipelt
DESCRIPTION:&lt;p&gt;1942 lernten Mirjam David und Ernst Holzer den Chemiestudenten Hans Leipelt kennen. Wie auch er lehnten sie die NS-Diktatur ab. Nach der Verhaftung Hans Leipelts im Oktober 1943 wurden auch Mirjam David und Ernst Holzer festgenommen und in Konzentrationslagern inhaftiert. Im Juli 1944 wurden beide wegen „Nichtanzeige“ der Flugblattverteilung von Hans Leipelt angeklagt. Hans Leipelt wurde im Oktober 1944 zum Tode verurteilte. Zur Veranstaltung mit Angela Bottin reist die Tochter von Mirjam David an.&lt;/p&gt;
DTSTART:20260502T150000
DTEND:20260502T160000
LOCATION:Ludwig-Maximilians-Universität, Hörsaal: A 014 Geschwister Scholl Platz 1
ORGANIZER:DMAO Denk mal am Ort
END:VEVENT
END:VCALENDAR