BEGIN:VCALENDAR
VERSION:2.0
PRODID:-//Stadtgeschichte München//DE
CALSCALE:GREGORIAN
BEGIN:VEVENT
UID:28356@stadtgeschichte-muenchen.de
SUMMARY:Johann Vorzellner:  Fotografien in Schwarz-Weiß –  Ein Leben mit Licht und Schatten
DESCRIPTION:&lt;p&gt;Johann Vorzellner wurde posthum – er starb 1960 – wegen der zahlreichen Fotografien bekannt, die&lt;/p&gt;&lt;p&gt;er nach dem 2. Weltkrieg vom zerbombten München machte. Er selbst war jedoch ein&lt;/p&gt;&lt;p&gt;unbeschriebenes Blatt, so dass bis heute manche seiner Bilder nicht ihm, sondern einem falschen&lt;/p&gt;&lt;p&gt;oder unbekannten Urheber zugeordnet werden. Mit bisher unveröffentlichtem Material nimmt die&lt;/p&gt;&lt;p&gt;Videodokumentation von Loïc Masson erstmalig den Werdegang des vermeintlich harmlosen&lt;/p&gt;&lt;p&gt;Postbeamten und Hobby-Fotografen unter die Lupe. Am Ende zeigt sich, dass seine Aufnahmen&lt;/p&gt;&lt;p&gt;einem kritischeren Blick unterworfen werden sollten, als bisher geschehen. Im Anschluss an die&lt;/p&gt;&lt;p&gt;Filmvorführung gibt Katharina Wohlfart einen Einblick in das Bildarchiv der Bayerischen&lt;/p&gt;&lt;p&gt;Staatsbibliothek, in dem der fotografische Nachlass von Johann Vorzellner verwahrt wird. Mit über 19&lt;/p&gt;&lt;p&gt;Millionen Bildern zählt das Archiv zu den größten Bildarchiven im deutschsprachigen Raum. Das&lt;/p&gt;&lt;p&gt;Fotoarchiv Vorzellner ist eines von mehr als 20 Fotoarchiven, die in der BSB der Öffentlichkeit für&lt;/p&gt;&lt;p&gt;Recherche und Nutzung zur Verfügung stehen.&lt;/p&gt;&lt;p&gt;Diese Veranstaltung richtet sich auch an alle, die sich für die Geschichte der Maxvorstadt&lt;/p&gt;&lt;p&gt;interessieren, denn Vorzellner lebte in der Amalienstraße 44.&lt;/p&gt;&lt;p&gt;Nach dem Vortrag laden wir Sie zu einem Umtrunk und zur weiteren Diskussion in den IBZ Faculty Club ein.&lt;/p&gt;
DTSTART:20260520T180000
DTEND:20260520T200000
LOCATION:IBZ, Amalienstraße 38
ORGANIZER:
END:VEVENT
END:VCALENDAR