BEGIN:VCALENDAR
VERSION:2.0
PRODID:-//Stadtgeschichte München//DE
CALSCALE:GREGORIAN
BEGIN:VEVENT
UID:25470@stadtgeschichte-muenchen.de
SUMMARY:Die Museumsmuffel-Bande
DESCRIPTION:&lt;p&gt;Wenn Du an Abenteuern und kniffligen Aufgaben Spaß hast, bist Du hier genau richtig. Trau Dich und komm mit! Die Geschichtenerzählerin Katharina Ritter lädt Dich dazu ein.&lt;br&gt;&lt;br&gt;&lt;strong&gt;Für Familien mit Kindern ab 6 Jahren&lt;/strong&gt;&lt;/p&gt;
DTSTART:20241229T150000
DTEND:20241229T160000
LOCATION:Bayerisches Nationalmuseum Prinzregentenstr. 3
ORGANIZER:Bayerisches Nationalmuseum
END:VEVENT
END:VCALENDAR