BEGIN:VCALENDAR
VERSION:2.0
PRODID:-//Stadtgeschichte München//DE
CALSCALE:GREGORIAN
BEGIN:VEVENT
UID:24968@stadtgeschichte-muenchen.de
SUMMARY:Kirche in Trümmern
DESCRIPTION:
DTSTART:20251203T180000
DTEND:20251203T193000
LOCATION:
ORGANIZER:Münchner Bildungswerk e.V.
END:VEVENT
END:VCALENDAR