BEGIN:VCALENDAR
VERSION:2.0
PRODID:-//Stadtgeschichte München//DE
CALSCALE:GREGORIAN
BEGIN:VEVENT
UID:24617@stadtgeschichte-muenchen.de
SUMMARY:Pferdesport im Münchner Nordosten
DESCRIPTION:&lt;p&gt;Fahrradtour durch die Geschichte der Anlagen für Pferdesport, von der 1902 eröffneten Trabrennbahn, wo wir an einem Rennen teilnehmen können, über die Olympiareitanlage mit der Polizeireiterstaffel zu der seit 1897 bestehenden Galopprennbahn. Wie wird sich die Gegend angesichts städtischer Planungen für ein neues Stadtquartier verändern? Kooperationsveranstaltung der MVHS und NordOstKultur.&lt;/p&gt;
DTSTART:20240821T140000
DTEND:20240821T160000
LOCATION:Trabrennbahn Daglfing Rennbahnstr. 35
ORGANIZER:MVHS
END:VEVENT
END:VCALENDAR