BEGIN:VCALENDAR
VERSION:2.0
PRODID:-//Stadtgeschichte München//DE
CALSCALE:GREGORIAN
BEGIN:VEVENT
UID:24421@stadtgeschichte-muenchen.de
SUMMARY:Spaziergang durch das Ensemble Tucherpark von Sep Ruf
DESCRIPTION:&lt;p&gt;Als große, durchgrünte Bürosiedlung der späten 1960er Jahre ist der Münchner Tucherpark in Bayern einzigartig. Sep Ruf hat es geschafft, seine Gebäude im Einklang mit der Natur und für den Menschen zu bauen. Die Gebäude und die Kunst im Park von Karl Kagerer scheinen zu schweben – wie lange noch? Der Tucherpark wurde 2019 an einen Investor verkauft und soll nachverdichtet werden. Wie viele Abbrüche, Ersatzbauten und Neubauten sind für das Ensemble verträglich?&lt;/p&gt; 
DTSTART:20241025T150000
DTEND:20241025T160000
LOCATION:Am Tucherpark 1, vor der „Großen Torfigur“ von Fritz Koenig
ORGANIZER:Münchner Forum
END:VEVENT
END:VCALENDAR