BEGIN:VCALENDAR
VERSION:2.0
PRODID:-//Stadtgeschichte München//DE
CALSCALE:GREGORIAN
BEGIN:VEVENT
UID:24335@stadtgeschichte-muenchen.de
SUMMARY:GRAUSLIGE G ‘SCHICHTEN
DESCRIPTION:&lt;p&gt;Es gruselt sich sehr in München! Schaurige Ecken, die schaurige Geschichten für euch bereithalten, werdet ihr zur Genüge bei unserer „Grausligen Geschichten“ – Tour kennenlernen – versprochen!&lt;/p&gt; 
DTSTART:20240403T140000
DTEND:20240403T160000
LOCATION:wird nach der Anmeldung bekanntgegeben
ORGANIZER:Die Stadtdetektive  - Stadtführungen für Kinder und Erwachsene
END:VEVENT
END:VCALENDAR