BEGIN:VCALENDAR
VERSION:2.0
PRODID:-//Stadtgeschichte München//DE
CALSCALE:GREGORIAN
BEGIN:VEVENT
UID:23339@stadtgeschichte-muenchen.de
SUMMARY:Alt-Sankt-Margaret und Sendlings Dorfkern
DESCRIPTION:&lt;p&gt;Nachdem die alte Sendlinger Kirche in der Sendlinger Mordweihnacht stark beschädigt wurde, entschloss sich die Gemeinde zu einem Neubau. Dieser wurde 1713 geweiht, die Entwürfe stammen von Wolfgang Zwerger. Die Ausstattung aus dem 18. Jahrhundert - Fresken, Stuck, Altäre - stellt ein fast geschlossenes Ensemble einer barocken Dorfkirche dar. Lernen Sie dieses schöne Gotteshaus kennen, das für uns geöffnet wird. Zu Beginn der Führung erkunden wir das Umfeld mit dem Außenfresko von Wilhelm Lindenschmit d. Ä., den Friedhof und die Dorfstruktur Sendlings.&lt;/p&gt; &lt;p&gt;&amp;nbsp;&lt;/p&gt; &lt;ul&gt; &lt;/ul&gt; 
DTSTART:20231203T150000
DTEND:20231203T163000
LOCATION:Alt-St.-Margaret, Portal Plinganserstr. 1
ORGANIZER:MVHS
END:VEVENT
END:VCALENDAR