BEGIN:VCALENDAR
VERSION:2.0
PRODID:-//Stadtgeschichte München//DE
CALSCALE:GREGORIAN
BEGIN:VEVENT
UID:23059@stadtgeschichte-muenchen.de
SUMMARY:Zum 90. Geburtstag von Herzog Franz von Bayern
DESCRIPTION:&lt;p&gt;Aus Anlass dieses Jubeltages zeigt das Bayerische Nationalmuseum neun Glasobjekte aus seiner einstigen Jugendstil-Sammlung. Die neun Gläser stehen symbolisch für die neun Lebensjahrzehnte des Chefs des Hauses Wittelsbach. Und da sie die florale Strömung des Art Nouveau vertreten, stellen sie einen besonderen Geburtstagsgruß an den Jubilar dar.&lt;/p&gt; 
DTSTART:20230713T180000
DTEND:20230713T190000
LOCATION:Bayerisches Nationalmuseum
ORGANIZER:Bayerisches Nationalmuseum
END:VEVENT
END:VCALENDAR