BEGIN:VCALENDAR
VERSION:2.0
PRODID:-//Stadtgeschichte München//DE
CALSCALE:GREGORIAN
BEGIN:VEVENT
UID:23035@stadtgeschichte-muenchen.de
SUMMARY:Schloss Nymphenburg unterm Hakenkreuz
DESCRIPTION:&lt;p&gt;Während des NS-Regimes diente Schloss Nymphenburg als Kulisse zur Machtdemonstration. Geradezu exemplarisch zeigen sich zahlreiche Verflechtungen: die Installierung des Deutschen Jagdmuseums und die damit verbundene Enteignung der „Englischen Fräulein“, die florierende Porzellanmanufaktur und die Furcht ihrer jüdischen Besitzer, die Gründung der mitgliederstarken Widerstandsgruppe „Hanierkreis“ durch den Schlossgärtner Heinrich Weiß sowie Planungen zu einer neuen Hochschulstadt rings um den Park. Auch das Schicksal des Hauses Wittelsbach,&amp;nbsp; Bombardierungen und die Stunde Null sind Themen der Führung.&lt;/p&gt; 
DTSTART:20230625T110000
DTEND:20230625T130000
LOCATION:vor dem Museumsshop (östliche Freitreppe/Stadtseite)
ORGANIZER:Allitera Verlag
END:VEVENT
END:VCALENDAR