BEGIN:VCALENDAR
VERSION:2.0
PRODID:-//Stadtgeschichte München//DE
CALSCALE:GREGORIAN
BEGIN:VEVENT
UID:22739@stadtgeschichte-muenchen.de
SUMMARY:Schloss Nymphenburgs Fassaden - bayerisch-französische Architektur
DESCRIPTION:&lt;p&gt;Der kurbayerische Hofbaumeister Joseph Effner prägte die Architektur von Schloss Nymphenburg ab 1716. Als Schüler von Germain Boffrand war Effner ein französisch geprägter Architekt im Übergang vom Barock zum Rokoko. Er verlieh dem Schloss eine einheitliche Fassadengestaltung. In ihrer einzigartigen Wirkung und Größe steht sie Versailles in nichts nach. Der Außenrundgang beleuchtet architektonische Details, den Gesamtaufbau des Ensembles sowie die Funktionen der einzelnen Trakte.&lt;/p&gt; &lt;p&gt;In Kooperation mit der Bayerischen Schlösserverwaltung&lt;/p&gt; 
DTSTART:20230709T140000
DTEND:20230709T153000
LOCATION:vor dem Hauptschloss (stadtseitig)
ORGANIZER:MVHS
END:VEVENT
END:VCALENDAR