BEGIN:VCALENDAR
VERSION:2.0
PRODID:-//Stadtgeschichte München//DE
CALSCALE:GREGORIAN
BEGIN:VEVENT
UID:22624@stadtgeschichte-muenchen.de
SUMMARY: Ich war die Erste - Bayerische Pionierinnen
DESCRIPTION:&lt;div style=&quot;background:transparent; border:0px; padding:0px 15px&quot;&gt; &lt;p&gt;Die kunst- und glaubensgeschichtlich wichtigste Kirche Münchens liegt - von den zahllosen Einkaufspassanten oft gar nicht wahrgenommen - mitten in der Fußgängerzone. Als Herzensprojekt des erzkatholischen Herzogs Wilhelm V. wurde sie 1597 fertiggestellt und dem damals noch jungen Jesuitenorden übergeben. Diese kühle Schönheit unter den Münchner Kirchen öffnet uns nicht nur die Augen für ihre vielfältigen Kunstschätze, sondern sie stellt auch heute noch mit ihrer engagierten Citypastoral, den großartigen Konzerten und den anspruchsvollen Predigten der Jesuitenpatres eine Ausnahmeerscheinung dar.&lt;/p&gt; &lt;p&gt;&amp;nbsp;&lt;/p&gt; &lt;/div&gt; 
DTSTART:20230420T170000
DTEND:20230420T183000
LOCATION:Max-Joseph-Platz, am Max-I-Denkmal
ORGANIZER:DGB-Bildungswerk Bayern e.V. Region München
END:VEVENT
END:VCALENDAR