BEGIN:VCALENDAR
VERSION:2.0
PRODID:-//Stadtgeschichte München//DE
CALSCALE:GREGORIAN
BEGIN:VEVENT
UID:22389@stadtgeschichte-muenchen.de
SUMMARY:Ich war die Erste – bayerische Pionierinnen
DESCRIPTION:&lt;p&gt;Lange war es deutschen Frauen schwer bis unmöglich, einen selbstbestimmten Weg zu gehen, zu studieren, einen Beruf auszuüben. Einige Münchner Pionierinnen, die sich trotz aller Hindernisse durchgesetzt haben, lernen Sie auf diesem Spaziergang kennen: Studentinnen, Politikerinnen, Unternehmerinnen wie Katharina Gruber mit ihrem Schreibbüro oder Liesl Karlstadt, die den ersten Werbespot der TV-Geschichte drehte. Auch auf aktuelle „Erste“ wird dabei eingegangen.&lt;/p&gt; 
DTSTART:20230505T150000
DTEND:20230505T170000
LOCATION:Max-Joseph-Denkmal Max-Joseph-Platz
ORGANIZER:MVHS
END:VEVENT
END:VCALENDAR