BEGIN:VCALENDAR
VERSION:2.0
PRODID:-//Stadtgeschichte München//DE
CALSCALE:GREGORIAN
BEGIN:VEVENT
UID:22376@stadtgeschichte-muenchen.de
SUMMARY:Wie aus einer kleinen Siedlung ein &quot;Millionendorf&quot; wurde
DESCRIPTION:&lt;p&gt;Wie veränderte die Stadt ihr bauliches Erscheinungsbild über die Jahrhunderte seit 1158? Welche Ereignisse und Personen bewirkten wichtige Veränderungen? Wo und wie lassen sich Spuren der bedeutendsten Wegmarken, Umbrüche und Neuerungen, die zur Besonderheit Münchens beitrugen, noch heute im Stadtbild ablesen? Gerhard Gross, langjähriger Mitarbeiter des Planungsreferats und Kurator dieser Ausstellung (von 2008), zeigt anhand von historischen und aktuellen Stadtkarten, Stadtansichten und Planungsdokumenten diese Entwicklung auf.&lt;/p&gt; &lt;p&gt;Eine weitere Veranstaltung zu diesem Thema:&lt;/p&gt; &lt;p&gt;&lt;a href=&quot;https://www.mvhs.de/kurse/online-programm/online-im-viertel/entwicklungslinien-der-muenchner-stadtentwicklung-und-stadtplanung-am-beispiel-ausgewaehlter-projekte-460-C-Q121219&quot; target=&quot;_blank&quot;&gt;&quot;Entwicklungslinien der Münchner Stadtentwicklung und Stadtplanung am Beispiel ausgewählter Projekte&quot; (Q121219) mit Gerhard Gross am 4. Mai&lt;/a&gt;&lt;/p&gt; 
DTSTART:20230420T173000
DTEND:20230420T193000
LOCATION:Referat für Stadtplanung und Bauordnung, Foyer Blumenstr. 28b
ORGANIZER:MVHS
END:VEVENT
END:VCALENDAR