BEGIN:VCALENDAR
VERSION:2.0
PRODID:-//Stadtgeschichte München//DE
CALSCALE:GREGORIAN
BEGIN:VEVENT
UID:21870@stadtgeschichte-muenchen.de
SUMMARY:Industriekultur in München - Zwischen Abriss und Bewahren
DESCRIPTION:&lt;p&gt;Durch den aktuellen Bauboom in München, sind viele historische Industriebauten, die ursprünglich zentrale Orte des Stadtteillebens und Stadtteilgeschichte waren, vom Abriss bedroht. Die Ausstellung soll das Bewusstsein wecken für die Bedeutung der Zeugnisse der Industriekultur in München. Präsentiert werden verschwundene Fabriken, durch Abriss gefährdete Anlagen und erfolgreich umgenutzte Objekte. Besonderes Augenmerk liegt bei der Teilauswahl auf dem Münchner Süden.&lt;/p&gt; &lt;p&gt;Vernissage zur Ausstellung vom 19. Januar bis 8. März 2023&amp;nbsp;&lt;/p&gt; 
DTSTART:20230118T190000
DTEND:20230118T203000
LOCATION:Albert-Roßhaupter-Str. 8, VHS
ORGANIZER:MVHS
END:VEVENT
END:VCALENDAR