BEGIN:VCALENDAR
VERSION:2.0
PRODID:-//Stadtgeschichte München//DE
CALSCALE:GREGORIAN
BEGIN:VEVENT
UID:21841@stadtgeschichte-muenchen.de
SUMMARY:Das Gestern im Heute - für morgen
DESCRIPTION:&lt;p&gt;Mit dem Jubiläum &quot;50 Jahre Bayerisches Denkmalschutzgesetz&quot; rückt das Potential der Denkmalpflege in den Fokus. Sie begegnet uns in vielen Lebensbereichen und beschränkt sich nicht auf archäologische Ausgrabungen, Baudenkmäler und Kunstobjekte - der Radius der Denkmalpflege erstreckt sich vielmehr auf übergreifende Themen wie Wirtschaft, Heimat, Umwelt oder Technologie. Welche aktuellen Perspektiven und neue Chancen die Denkmalpflege bietet, erläutert der Generalkonservator des Bayerischen Landesamtes für Denkmalpflege in diesem Auftakt-Vortrag der Montagsvorträge 2023.&lt;/p&gt; &lt;p&gt;&amp;nbsp;&lt;/p&gt; 
DTSTART:20230213T190000
DTEND:20230213T203000
LOCATION:
ORGANIZER:MVHS
END:VEVENT
END:VCALENDAR