BEGIN:VCALENDAR
VERSION:2.0
PRODID:-//Stadtgeschichte München//DE
CALSCALE:GREGORIAN
BEGIN:VEVENT
UID:21523@stadtgeschichte-muenchen.de
SUMMARY:Hochhausarchitektur in München
DESCRIPTION:&lt;p&gt;In kaum einer Großstadt wird die Hochhausdiskussion engagierter geführt als in München. Wie hoch darf gebaut werden? Diese Frage erhitzt aktuell die Gemüter bei den geplanten Bauten von Herzog &amp;amp; de Meuron an der Paketposthalle. Die hundert Höhenmeter der Frauentürme gelten als Richtmaß, doch Hochhäuser gehören längst zur Stadtentwicklung Münchens. Mancher Bau hat sogar weltweite Beachtung erlangt und wurde zum Wahrzeichen der Stadt. Welche Hochhäuser prägen bereits das Stadtbild von München und welche sind geplant?&lt;/p&gt; 
DTSTART:20230213T181500
DTEND:20230213T194500
LOCATION:Gasteig HP8, Hans-Preißinger-Str. 8
ORGANIZER:MVHS
END:VEVENT
END:VCALENDAR