BEGIN:VCALENDAR
VERSION:2.0
PRODID:-//Stadtgeschichte München//DE
CALSCALE:GREGORIAN
BEGIN:VEVENT
UID:19260@stadtgeschichte-muenchen.de
SUMMARY:Maxvorstadt: Große Politik in Architektur und Straßenschild
DESCRIPTION:&lt;p&gt;Die politisch Mächtigen streben danach, dass die Untertanen ihren Machtanspruch auch in der Architektur und auf dem Straßenschild spüren. In der Maxvorstadt wird dies in besonderem Maß sichtbar, gerade was die bayerische Außen-und Kriegspolitik im 19. Jahrhundert betrifft. Aber auch die allgemeine Politik vom 19. Jahrhundert bis heute hinterließ ihre Spuren im Stadtteil, und zwar nicht nur im NS-Parteiviertel am Königsplatz aber natürlich auch dort.&lt;/p&gt; 
DTSTART:20201015T160000
DTEND:20201015T180000
LOCATION:Haupteingang Justizpalast, Prielmayerstr. 7
ORGANIZER:DGB-Bildungswerk Bayern e.V. Region München
END:VEVENT
END:VCALENDAR