BEGIN:VCALENDAR
VERSION:2.0
PRODID:-//Stadtgeschichte München//DE
CALSCALE:GREGORIAN
BEGIN:VEVENT
UID:19207@stadtgeschichte-muenchen.de
SUMMARY:Kirche im Duett
DESCRIPTION:&lt;p&gt;Ganz nah beieinander und doch so unterschiedlich Kurioses und Geheimnisvolles..&lt;/p&gt; &lt;p&gt;Kostenlose Turmbesuch im Anschluss an die Führung&lt;/p&gt; 
DTSTART:20200610T150000
DTEND:20200610T163000
LOCATION:St. Peter, unter der Orgelempore 
ORGANIZER:Münchner Bildungswerk e.V.
END:VEVENT
END:VCALENDAR