BEGIN:VCALENDAR
VERSION:2.0
PRODID:-//Stadtgeschichte München//DE
CALSCALE:GREGORIAN
BEGIN:VEVENT
UID:19168@stadtgeschichte-muenchen.de
SUMMARY:Stadt der unsichtbaren Frauen
DESCRIPTION:&lt;p&gt;Denkmäler von Frauen sind selten in München, dennoch haben viele Stadtgeschichte mitgeschrieben!&lt;/p&gt; 
DTSTART:20200915T150000
DTEND:20200915T163000
LOCATION:Marienplatz, Fischbrunnen
ORGANIZER:Münchner Bildungswerk e.V.
END:VEVENT
END:VCALENDAR