BEGIN:VCALENDAR
VERSION:2.0
PRODID:-//Stadtgeschichte München//DE
CALSCALE:GREGORIAN
BEGIN:VEVENT
UID:19121@stadtgeschichte-muenchen.de
SUMMARY:Des gibt\'s doch gar net! - Oder doch?
DESCRIPTION:
DTSTART:20200704T111500
DTEND:20200704T124500
LOCATION:Spielzeugmuseum (Turm des Alten Rathauses) (U-/S-Bahn: Marienplatz)
ORGANIZER:STATTreisen München e.V.
END:VEVENT
END:VCALENDAR