BEGIN:VCALENDAR
VERSION:2.0
PRODID:-//Stadtgeschichte München//DE
CALSCALE:GREGORIAN
BEGIN:VEVENT
UID:19072@stadtgeschichte-muenchen.de
SUMMARY:Ludwig II. und seine Beziehung zu Nymphenburg
DESCRIPTION:&lt;p&gt;Der spätere König Ludwig II. von Bayern wurde am 25. August 1845 auf Schloss Nymphenburg geboren. Kurz darauf zelebrierte man im Festsaal der Sommerresidenz seine Taufe. Jedoch verbindet die Öffentlichkeit bis heute nur Hohenschwangau, die Schlösser Neuschwanstein, Linderhof und Herrenchiemsee mit dem König. Welche Beziehung Ludwig II. zu Nymphenburg hatte, wieso er dort zur Welt kam und warum er mit der Familie seines im Schloss wohnenden Cousins ein enges Verhältnis pflegte, erfahren Sie bei einer spannenden Führung durch die Prunkräume.&lt;/p&gt; &lt;p&gt;In Kooperation mit der Bayerischen Schlösserverwaltung&lt;/p&gt; 
DTSTART:20200823T120000
DTEND:20200823T133000
LOCATION:Schloss Nymphenburg - Haupteingang
ORGANIZER:MVHS
END:VEVENT
END:VCALENDAR