BEGIN:VCALENDAR
VERSION:2.0
PRODID:-//Stadtgeschichte München//DE
CALSCALE:GREGORIAN
BEGIN:VEVENT
UID:19018@stadtgeschichte-muenchen.de
SUMMARY:Neuhausen-Nord - vom Rotkreuzplatz zum Waisenhaus
DESCRIPTION:&lt;p&gt;Im Gebiet nördlich des Rotkreuzplatzes sind im vergangenen Jahrhundert zahlreiche interessante Straßen, Wohngebäude, städtische Bildungs- und Sozialeinrichtungen sowie Gaststätten entstanden.&lt;/p&gt; &lt;p&gt;Der Weg führt durch die Ysenburg-, Frundsberg-, Volkart-, Bothmer- und Ruffinistraße und endet am Städtischen Waisenhaus.&lt;/p&gt; &lt;p&gt;In Zusammenarbeit mit der Geschichtswerkstatt Neuhausen e.V.&lt;/p&gt; 
DTSTART:20200425T140000
DTEND:20200425T160000
LOCATION:Rotkreuzplatz, am Maibaum
ORGANIZER:MVHS München West
END:VEVENT
END:VCALENDAR