BEGIN:VCALENDAR
VERSION:2.0
PRODID:-//Stadtgeschichte München//DE
CALSCALE:GREGORIAN
BEGIN:VEVENT
UID:18978@stadtgeschichte-muenchen.de
SUMMARY:Besondere Friedhöfe in Gauting
DESCRIPTION:&lt;p&gt;Der Rundgang beginnt an der „neuen&quot; Aussegnungshalle von Alexander von Branca. Der Weg führt durch den frühesten Teil des wiederholt erweiterten Friedhofes. Die alten Grabstätten, die Bäume und der angrenzende Wald vermitteln eine besondere Atmosphäre. Im angrenzenden Jüdischen Friedhof fanden 172 Bestattungen statt: Opfer des Konzentrationslagers Dachau und des Todesmarsches durch das Würmtal, gestorben im DP-Hospital in Gauting.&lt;/p&gt; &lt;p&gt;Die Führung schließt an dem Mahnmal von Hubertus von Pilgrim, das an den Todesmarsch vom April 1945 erinnert.&lt;/p&gt; 
DTSTART:20200726T140000
DTEND:20200726T153000
LOCATION:Gautinger Waldfriedhof, Neue Aussegnungshalle
ORGANIZER:MVHS München Süd
END:VEVENT
END:VCALENDAR