BEGIN:VCALENDAR
VERSION:2.0
PRODID:-//Stadtgeschichte München//DE
CALSCALE:GREGORIAN
BEGIN:VEVENT
UID:18936@stadtgeschichte-muenchen.de
SUMMARY:Der Grünwalder Trachtenverein - gelebte Tradition vor Ort
DESCRIPTION:&lt;p&gt;Singen, tanzen, Theater spielen und vieles mehr: Brauchtum und bayerisches Kulturgut zu bewahren ist das Hauptanliegen der Grünwalder Trachtler. Sie tun das mit viel Freude und Engagement. Welche Tracht trägt man? Was sind die Aufgaben und Herausforderungen, um in der heutigen Zeit zu bestehen? Am wichtigsten sind Menschen aller Altersgruppen, die sich für die gelebte Tradition einbringen. Die Trachtler mit ihrem Vorstand, Hans Häusler, freuen sich über reges Interesse und bieten einen interessanten Nachmittag mit Bildern, Musik und Gesang.&lt;/p&gt; 
DTSTART:20200328T150000
DTEND:20200328T163000
LOCATION:Bürgerhaus Römerschanz • Dr.-Max-Str. 1
ORGANIZER:MVHS München Ost
END:VEVENT
END:VCALENDAR