BEGIN:VCALENDAR
VERSION:2.0
PRODID:-//Stadtgeschichte München//DE
CALSCALE:GREGORIAN
BEGIN:VEVENT
UID:18886@stadtgeschichte-muenchen.de
SUMMARY:Entlang historscher Wasserstraßen
DESCRIPTION:&lt;p&gt;Das oberirdische Kanalsystem im Münchner Norden wurde von Kurfürst Max-Emanuel um 1700 angelegt. Bei einer ausgedehnten Rundfahrt entlang den Kanälen und der sie speisenden Würm wird die Bedeutung dieser Wasserstraßen in Geschichte und Gegenwart gezeigt.&lt;/p&gt; &lt;p&gt;Die Tour, die über ca. 42 km und 100 Höhenmeter geht, ist auch für trittfeste Radler ohne Elektro-Antrieb geeignet. Fahrräder müssen mitgebracht werden. Bitte prüfen Sie vor der Anmeldung, ob die Reichweite des Akkus für die Streckenlänge ausreicht.&lt;/p&gt; &lt;p&gt;Pausen nach Absprache&lt;/p&gt; 
DTSTART:20200726T110000
DTEND:20200726T170000
LOCATION:Bad Georgenschwaige - Belgradstr. 195
ORGANIZER:MVHS München Nord
END:VEVENT
END:VCALENDAR