BEGIN:VCALENDAR
VERSION:2.0
PRODID:-//Stadtgeschichte München//DE
CALSCALE:GREGORIAN
BEGIN:VEVENT
UID:18822@stadtgeschichte-muenchen.de
SUMMARY:Tierisches München
DESCRIPTION:&lt;p&gt;Es gurrt, bellt, maunzt, fiept und brüllt in der Innenstadt - wie, das haben Sie noch nicht gehört? Dann kommen Sie mit auf eine &quot;tierische Stadtführung&quot;. Zwei- und Vierbeiner haben als Freunde und Begleiter der Münchnerinnen und Münchner über Jahrhunderte Geschichte geschrieben. Als Skulpturen, Reliefs, Gemälde und Zeichnungen sind sie im Stadtbild zu sehen und in Redewendungen wie &quot;auf den Hund gekommen&quot; oder &quot;die Katze aus dem Sack lassen&quot; beleben sie nach wie vor unsere Alltagssprache.&lt;/p&gt; 
DTSTART:20200823T110000
DTEND:20200823T123000
LOCATION:Unter dem Turm des Neuen Rathauses
ORGANIZER:MVHS München Mitte   
END:VEVENT
END:VCALENDAR