BEGIN:VCALENDAR
VERSION:2.0
PRODID:-//Stadtgeschichte München//DE
CALSCALE:GREGORIAN
BEGIN:VEVENT
UID:18770@stadtgeschichte-muenchen.de
SUMMARY:Rechts und links vom „Türkengraben“
DESCRIPTION:&lt;p&gt;Nur eine virtuelle Uferpromenade entlang dem früheren Türkengraben kann es sein, denn das Viertel ist durch ein quadratisches Straßenraster eng überbaut. So wird es ein &quot;Hineinspechten&quot; in Hinterhöfe, ein Verharren vor alten Kneipen oder ihrem früheren Standort, ein Hinweis auf &quot;Schwabylon-Schlawiner&quot;, die hier gewohnt, gearbeitet - naja, gelebt haben. Oder für einen Ort ein Gedicht hinterlassen haben. Dann über Straßenzüge, die an den Kanalgründer, Kurfürst Max Emanuel, erinnern oder an die kgl. Hoheit Prinz Leopold und seine Familie.&lt;/p&gt; 
DTSTART:20200425T140000
DTEND:20200425T160000
LOCATION:Reiterdenkmal Ludwig I., Odeonsplatz, nahe Odeonsplatz 3
ORGANIZER:MVHS München Mitte   
END:VEVENT
END:VCALENDAR