BEGIN:VCALENDAR
VERSION:2.0
PRODID:-//Stadtgeschichte München//DE
CALSCALE:GREGORIAN
BEGIN:VEVENT
UID:18394@stadtgeschichte-muenchen.de
SUMMARY:Besuch des Cuvillies-Theaters
DESCRIPTION:&lt;p&gt;Das Cuvillies-Theater wurde von 1751 bis 1755 nach Plänen von Frangois Cuvil- lies d.Ä. errichtet. Es erlebte zahlreiche prunkvolle Inszenierungen von Barockopern, u.a. 1781 die Uraufführung von Mozarts „Idomeneo“.&lt;/p&gt; &lt;p&gt;Im Zweiten Weltkrieg wurde das Gebäude zerstört. Die vorher ausgelagerten Logenverkleidungen blieben jedoch erhalten und wurden bis 1958 an anderer Stelle, im sogenannten Apothekenstock am Brunnenhof, wieder eingebaut. Das ehemalige Residenztheater ist als Gesamtkunstwerk von europäischem Rang und als eine Perle des höfischen Rokoko heute wieder erlebbar.&lt;/p&gt; 
DTSTART:20200310T151500
DTEND:20200310T170000
LOCATION:Eingang des Cuvillies-Theaters im Brunnenhof der Residenz, Zugang über Residenzstraße; vom Odeonsplatz ca. 5 Min. zu Fuß
ORGANIZER:DGB-Bildungswerk Bayern e.V. Region München
END:VEVENT
END:VCALENDAR