BEGIN:VCALENDAR
VERSION:2.0
PRODID:-//Stadtgeschichte München//DE
CALSCALE:GREGORIAN
BEGIN:VEVENT
UID:18052@stadtgeschichte-muenchen.de
SUMMARY:Vom Exerzierplatz zum Olympiapark
DESCRIPTION:&lt;p&gt;Das Oberwiesenfeld blickt im Lauf seiner Geschichteauf eine vielseitige Nutzung zurück. Volker D. Laturell, Heimatforscher, Sachbuchautor und Mitbegründer des Geschichtsverein Moosach e.V, berichtet von dem spannenden Wandel des Gebiets, das bis vor fast 100 Jahren noch zur Gemarkung Moosach gehörte.&lt;/p&gt; &lt;p&gt;Volker D.Laturell··di19.00bis 20.30Uhr·14.1.2020·Gebührenfrei·Anmeldungerbeten·6.&lt;/p&gt; 
DTSTART:20200114T190000
DTEND:20200114T200000
LOCATION:MVHS in Moosach·Baubergerstr.6a
ORGANIZER:MVHS München Nord
END:VEVENT
END:VCALENDAR