BEGIN:VCALENDAR
VERSION:2.0
PRODID:-//Stadtgeschichte München//DE
CALSCALE:GREGORIAN
BEGIN:VEVENT
UID:1681@stadtgeschichte-muenchen.de
SUMMARY:Maximilian II. und seine Historischen Galerien
DESCRIPTION:&lt;p&gt;Aus Anlass des 200. Geburtstages von K&amp;ouml;nig Maximilian II. werden Kartons und &amp;Ouml;lskizzen gezeigt, die als Vorarbeiten zu den Historischen Galerien des Monarchen gedient haben. Nach der Thronbesteigung 1848 war es sein erkl&amp;auml;rtes Ziel,&amp;bdquo;das Bayerische Nationalgef&amp;uuml;hl auf alle Weise zu heben&amp;quot;, um so den inneren Zusammenhalt und die Eigenst&amp;auml;ndigkeit des Landes zu festigen. Mit seiner Kulturpolitik wollte der K&amp;ouml;nig das Bewusstsein f&amp;uuml;r die geschichtliche Gr&amp;ouml;&amp;szlig;e Bayerns st&amp;auml;rken und die Bindung seines Volkes an das Herrscherhaus neu beleben, die nach der unr&amp;uuml;hmlichen Abdankung seines Vaters Ludwig l.und den revolution&amp;auml;ren Ereignissen von 1848 br&amp;uuml;chig geworden war. Die Errichtung von Denkm&amp;auml;lern, die F&amp;ouml;rderung von Brauchtum,Tracht und Mundartdichtung waren wichtige Bestandteile seines Regierungsprogramms. Eine zentrale Position nahmen die repr&amp;auml;sentativen Bauten an der neuen Maximilianstra&amp;szlig;e ein: Das Bayerische Nationalmuseum mit seinem Zyklus von 143 Fresken zur Geschichte Bayerns und das als Bildungsinstitut errichtete Maximilianeum mit seiner 30 Tafelgem&amp;auml;lde umfassenden Folge zur Welt- und Heilsgeschichte.Von den beiden Bilderzyklen sind heute nur noch wenige Zeugnisse &amp;ouml;ffentlich zu sehen. Die Kartons und &amp;Ouml;lskizzen vermitteln einen Einblick in den Entstehungsprozess der Historischen Galerien und machen die vorherrschenden Stiltendenzen in der M&amp;uuml;nchner Historienmalerei dieser Zeit sichtbar.&lt;/p&gt; &lt;div&gt;&amp;nbsp;&lt;/div&gt;
DTSTART:20120105T180000
DTEND:20120105T000000
LOCATION:Kassenraum
ORGANIZER:Bayerisches Nationalmuseum
END:VEVENT
END:VCALENDAR