BEGIN:VCALENDAR
VERSION:2.0
PRODID:-//Stadtgeschichte München//DE
CALSCALE:GREGORIAN
BEGIN:VEVENT
UID:16633@stadtgeschichte-muenchen.de
SUMMARY:Kunststück
DESCRIPTION:&lt;p&gt;Der Pfälzer Kurfürst&amp;nbsp;Karl Theodor&amp;nbsp;erhielt 1760 von König Ludwig XV. von Frankreich&amp;nbsp;als Dank für seine neutrale Haltung im Siebenjährigen Krieg ein&amp;nbsp;Tafelservice der Porzellanmanufaktur Sèvres mit feinster Vogelmalerei. Er war von dem Service so entzückt, dass er für dessen Präsentation einen Schrank mit Glasscheiben anfertigen ließ.&amp;nbsp;Da er bald Ergänzungen bestellte,&amp;nbsp;muss das Service auch benutzt worden sein. Es&amp;nbsp;hält Geschirre für den Vorspeisengang, das Dessert und die Getränke bereit.&lt;/p&gt; &lt;p&gt;Zehn Jahre später ließ sich der Kurfürst in seiner Frankenthaler Manufaktur noch ein zweites Porzellanservice mit Vogelmalerei anfertigen. Offensichtlich&amp;nbsp;aß er nicht immer vom eigentlich standesgemäßen Silber, sondern schätzte auch das geschmacksfreie, farbenfrohe Porzellan.&lt;/p&gt; 
DTSTART:20190106T110000
DTEND:20190106T000000
LOCATION:Bayerisches Nationalmuaeum, Kassenraum
ORGANIZER:Bayerisches Nationalmuseum
END:VEVENT
END:VCALENDAR