BEGIN:VCALENDAR
VERSION:2.0
PRODID:-//Stadtgeschichte München//DE
CALSCALE:GREGORIAN
BEGIN:VEVENT
UID:1626@stadtgeschichte-muenchen.de
SUMMARY:Schauriges München â€“ die dunkle Seite der Stadt
DESCRIPTION:&lt;p&gt;Die leuchtende Stadt, voller Licht und Leben! So kennen und lieben wir M&amp;uuml;nchen mit seinen weiten Pl&amp;auml;tzen, prunkvollen Pal&amp;auml;sten und Boulevards. Doch es gibt auch die andere, die dunkle Seite der Stadt &amp;hellip; Wir machen uns auf die Suche nach Spukorten in der Innenstadt, begegnen Teufeln und D&amp;auml;monen, Ketzern und Verdammten, finden Pl&amp;auml;tze, an denen sich unfassliche Verbrechen abgespielt haben, grausamer religi&amp;ouml;ser Eifer sich Bahn schlug und vermeintliche Hexen ihre Seele aushauchten. Diese Tour f&amp;uuml;hrt zu den dunkelsten Orten der Innenstadt &amp;hellip;&lt;/p&gt;
DTSTART:20120122T153000
DTEND:20120122T173000
LOCATION:Frauenkirche (vor dem Haupteingang)
ORGANIZER:Mystisches München
END:VEVENT
END:VCALENDAR