BEGIN:VCALENDAR
VERSION:2.0
PRODID:-//Stadtgeschichte München//DE
CALSCALE:GREGORIAN
BEGIN:VEVENT
UID:16092@stadtgeschichte-muenchen.de
SUMMARY:München erleben mit der Tram
DESCRIPTION:&lt;p&gt;Mit wechselnden Trambahnlinien lernen wir München aus einer anderen Perspektive kennen. Vom Ostbahnhof geht es über den Max-Weber- Platz zum Stachus, dann Richtung Norden zum Kurfürstenplatz und wieder zum Sendlinger Tor und Isartor. Sie erfahren viel Wissenswertes über die Stadt und ihre Geschichte, lernen unbekannte Ecken kennen und beim Umsteigen kann auch vieles genauer besehen werden. Treffpunkt: München Ostbahnhof, Trambahnhaltestelle der Linie 19 (Richtung Stadteinwärts) am Orleansplatz.&lt;/p&gt; &lt;p&gt;Bitte mitbringen: Sie benötigen ein MW Tagesticket Innenraum!&lt;/p&gt; 
DTSTART:20190106T110000
DTEND:20190106T130000
LOCATION:München Ostbahnhof, Trambahnhaltestelle der Linie 19 (Richtung Stadteinwärts) am Orleansplatz
ORGANIZER:VHS SüdOst Landkreis München
END:VEVENT
END:VCALENDAR