BEGIN:VCALENDAR
VERSION:2.0
PRODID:-//Stadtgeschichte München//DE
CALSCALE:GREGORIAN
BEGIN:VEVENT
UID:1445@stadtgeschichte-muenchen.de
SUMMARY:Rundgang durch die Krippensammlung
DESCRIPTION:&lt;p&gt;&lt;br /&gt; &amp;nbsp;&lt;/p&gt;
DTSTART:20111229T180000
DTEND:20111229T000000
LOCATION:Kasse
ORGANIZER:Bayerisches Nationalmuseum
END:VEVENT
END:VCALENDAR