BEGIN:VCALENDAR
VERSION:2.0
PRODID:-//Stadtgeschichte München//DE
CALSCALE:GREGORIAN
BEGIN:VEVENT
UID:14340@stadtgeschichte-muenchen.de
SUMMARY:150 Jahre Kurt Eisner
DESCRIPTION:&lt;p&gt;In Kooperation mit dem Zentralinstitut für Zeitgeschichte München.&lt;/p&gt; &lt;p&gt;Der Journalist, Autor und Alt-Oberbürgermeister von München, Christian Ude, erinnert in einem Vortrag an den jüdischen Politiker und Revolutionär Kurt Eisner, der 1918 die bayerische Revolution anführte und den „Freistaat Bayern“ ausrief. Im Februar 1919 fiel der erste Ministerpräsident der Bayerischen Republik einem Attentat zum Opfer.&lt;/p&gt; &lt;p&gt;Mit Prof. Dr. Magnus Brechtken, dem stellvertretenden Direktor des Instituts für Zeitgeschichte, geht Christian Ude nach seinem Vortrag der Frage nach, welchen Stellenwert die jüdische Identität von Politikern, vor allem in der Außenwahrnehmung einnimmt.&lt;/p&gt; 
DTSTART:20171121T190000
DTEND:20171121T000000
LOCATION:Gasteig Black Box
ORGANIZER:Gasteig
END:VEVENT
END:VCALENDAR