BEGIN:VCALENDAR
VERSION:2.0
PRODID:-//Stadtgeschichte München//DE
CALSCALE:GREGORIAN
BEGIN:VEVENT
UID:13929@stadtgeschichte-muenchen.de
SUMMARY:Eine neue Heimat in Berg am Laim?
DESCRIPTION:&lt;p&gt;Maibaum, Metzgerei, Apotheke, Frisör, Reisebüro, Kiosk .. . und ein Wohnprojekt für junge Flüchtlinge, mittendrin in Berg am Laim. Ein ehemaliges Hotel an der Baumkirchner Straße ist seit Ende 2010 Wohnheim für 32 ehemalige unbegleitete jugendliche Flüchtlinge. Die ersten haben ihre Ausbildungen abgeschlossens, sind ausgezogen, dem Viertel und Haus treu geblieben. Sie machen den Neuen Platz, die hier ihre Heimat finden wollen. Wir laden Sie zu uns ein, um einige von uns kennenzulernen. Wir sind Schüler, Azubis, Arbeitnehmer - Ihre Nachbarn! Wir freuen uns auf Ihren Besuch, um miteinander ins Gespräch zu kommen.&lt;/p&gt; 
DTSTART:20171123T183000
DTEND:20171123T200000
LOCATION:Wohnprojekt für jugendliche Flüchtlinge, Baumkirchner Str. 17
ORGANIZER:MVHS München Ost
END:VEVENT
END:VCALENDAR