BEGIN:VCALENDAR
VERSION:2.0
PRODID:-//Stadtgeschichte München//DE
CALSCALE:GREGORIAN
BEGIN:VEVENT
UID:13858@stadtgeschichte-muenchen.de
SUMMARY:Verrücktes München
DESCRIPTION:&lt;p&gt;Die Stadt steckt voller Kuriositäten und Ungereimtheiten, die man oft erst auf den zweiten Blick sieht. Oder können Sie sich etwa erklären, warum in der Altstadt bestimmte Uhren drei Zeiger haben? Wissen Sie, wo König Ludwig II. eine Regenbogenmaschine installieren ließ? An welchem Ort in der Innenstadt begann man, einen Atomreaktor zu bauen und wo darf jeder vom Straßenraum aus Kirchenglocken anschlagen? Antworten auf diese Fragen und noch vieles mehr erfahren Sie bei diesem ungewöhnlichen Rundgang durch die Altstadt.&lt;/p&gt; 
DTSTART:20171121T173000
DTEND:20171121T193000
LOCATION:Treffpunkt: Alter Hof, vor Infopoint nichtstaatl. Museen Bayerns
ORGANIZER:MVHS München Mitte   
END:VEVENT
END:VCALENDAR