BEGIN:VCALENDAR
VERSION:2.0
PRODID:-//Stadtgeschichte München//DE
CALSCALE:GREGORIAN
BEGIN:VEVENT
UID:1340@stadtgeschichte-muenchen.de
SUMMARY:Münchner Kaffeehausgeschichte(n)
DESCRIPTION:&lt;p&gt;Seit fast 300 Jahren wird in M&amp;uuml;nchen Kaffee ausgeschenkt. Anfangs in einfachen Kaffeestuben, sp&amp;auml;ter in prachtvoll ausgestatteten Caf&amp;eacute;s, heute gibt es Espressobars nach italienischer oder - die neueste Idee - nach amerikanischer Art. Bei diesem Spaziergang besch&amp;auml;ftigen wir uns mit der Geschichte von traditionsreichen noch bestehenden, aber auch mit schon lange verschwundenen Kaffeeh&amp;auml;usern. In einem kleinen Hausmuseum sehen Sie die Kaffeehauskultur der zwanziger Jahre.&lt;/p&gt;
DTSTART:20111229T140000
DTEND:20111229T160000
LOCATION:Odeonsplatz, Tor zum Hofgarten 
ORGANIZER:MVHS München Mitte   
END:VEVENT
END:VCALENDAR