BEGIN:VCALENDAR
VERSION:2.0
PRODID:-//Stadtgeschichte München//DE
CALSCALE:GREGORIAN
BEGIN:VEVENT
UID:1266@stadtgeschichte-muenchen.de
SUMMARY:Buchvorstellung: Zwischenstation „Judensiedlung„
DESCRIPTION:&lt;p&gt;Im Mittelpunkt des neuen Buches von Maximilian Strnad steht die &amp;bdquo;Judensiedlung Milbertshofen&amp;ldquo;, wie das Barackenlager f&amp;uuml;r Juden an &lt;br /&gt; der Knorrstra&amp;szlig;e 148 genannt wurde. Dieser Ort des Terrors war 1941/1942 die wichtigste nationalsozialistische Einrichtung bei der Entrechtung und Vertreibung der M&amp;uuml;nchner Juden. In einem Gespr&amp;auml;ch wird der Autor &amp;uuml;ber das Leben im Lager, &amp;uuml;ber die Hintergr&amp;uuml;nde und die Motivation seiner Arbeit berichten. M&amp;uuml;nchner Sch&amp;uuml;lerinnen und Sch&amp;uuml;ler, K&amp;uuml;nstlerinnen und K&amp;uuml;nstler lesen an diesem Abend aus Selbstzeugnissen der Betroffenen vor und versuchen so den Verfolgten ihre Stimme zur&amp;uuml;ckzugeben.&lt;/p&gt; &lt;p&gt;In Kooperation mit dem Kulturhaus Milbertshofen.&lt;/p&gt;
DTSTART:20111103T190000
DTEND:20111103T210000
LOCATION:Kulturhaus Milbertshofen Â· Curt-Mezger-Platz 1
ORGANIZER:MVHS München Mitte   
END:VEVENT
END:VCALENDAR