BEGIN:VCALENDAR
VERSION:2.0
PRODID:-//Stadtgeschichte München//DE
CALSCALE:GREGORIAN
BEGIN:VEVENT
UID:12584@stadtgeschichte-muenchen.de
SUMMARY:Die Entstehung der Schatzkammer des Hauses Wittelsbach
DESCRIPTION:&lt;p&gt;Die Vorläufer unserer heutigen Museen finden sich in den repräsentativen fürstlichen Sammlungen der Renaissance. Auf den ersten Blick mag eine solche Zusammenstellung wie eine ungeordnete Anhäufung kunstvoller und kurioser Objekte wirken. Tatsächlich stand jedoch ein&amp;nbsp; spezifisches Sammlungskonzept im Zentrum des Interesses. Es ging darum, den universalen Zusammenhang aller Dinge darzustellen, mit dem Ziel, eine Weltanschauung zu vermitteln, in der Geschichte, Kunst, Natur und Wissenschaft zu einer Einheit verschmolzen.&lt;/p&gt; 
DTSTART:20170119T180000
DTEND:20170119T190000
LOCATION:Kassenraum
ORGANIZER:Bayerisches Nationalmuseum
END:VEVENT
END:VCALENDAR